Package: biobroom Version: 1.38.0 Command: /home/biocbuild/bbs-3.20-bioc/R/bin/R CMD build --keep-empty-dirs --no-resave-data --md5 biobroom StartedAt: 2025-02-03 16:31:56 -0500 (Mon, 03 Feb 2025) EndedAt: 2025-02-03 16:32:42 -0500 (Mon, 03 Feb 2025) EllapsedTime: 46.0 seconds RetCode: 0 Status: OK PackageFile: biobroom_1.38.0.tar.gz PackageFileSize: 520.2 KiB