Package: biobroom Version: 1.38.0 Command: /Library/Frameworks/R.framework/Resources/bin/R CMD INSTALL biobroom StartedAt: 2025-02-03 15:17:55 -0500 (Mon, 03 Feb 2025) EndedAt: 2025-02-03 15:18:22 -0500 (Mon, 03 Feb 2025) EllapsedTime: 27.2 seconds RetCode: 0 Status: OK