Package: biobroom Version: 1.38.0 Command: /Library/Frameworks/R.framework/Resources/bin/R CMD build --keep-empty-dirs --no-resave-data biobroom StartedAt: 2025-01-27 17:19:43 -0500 (Mon, 27 Jan 2025) EndedAt: 2025-01-27 17:21:52 -0500 (Mon, 27 Jan 2025) EllapsedTime: 129.9 seconds RetCode: 0 Status: OK PackageFile: biobroom_1.38.0.tar.gz PackageFileSize: 577.6 KiB