Package: biobroom Version: 1.38.0 Command: /Library/Frameworks/R.framework/Resources/bin/R CMD INSTALL biobroom StartedAt: 2024-11-08 15:15:00 -0500 (Fri, 08 Nov 2024) EndedAt: 2024-11-08 15:15:06 -0500 (Fri, 08 Nov 2024) EllapsedTime: 6.7 seconds RetCode: 0 Status: OK