Package: biobroom Version: 1.38.0 Command: /Library/Frameworks/R.framework/Resources/bin/R CMD INSTALL biobroom StartedAt: 2025-02-03 15:21:11 -0500 (Mon, 03 Feb 2025) EndedAt: 2025-02-03 15:21:23 -0500 (Mon, 03 Feb 2025) EllapsedTime: 12.3 seconds RetCode: 0 Status: OK