Package: biobroom Version: 1.38.0 Command: /Library/Frameworks/R.framework/Resources/bin/R CMD build --keep-empty-dirs --no-resave-data biobroom StartedAt: 2025-02-03 19:26:25 -0500 (Mon, 03 Feb 2025) EndedAt: 2025-02-03 19:27:27 -0500 (Mon, 03 Feb 2025) EllapsedTime: 62.7 seconds RetCode: 0 Status: OK PackageFile: biobroom_1.38.0.tar.gz PackageFileSize: 589.1 KiB