Package: bioassayR Version: 1.44.0 Command: /home/biocbuild/R/R/bin/R CMD INSTALL bioassayR StartedAt: 2025-02-03 21:17:27 -0000 (Mon, 03 Feb 2025) EndedAt: 2025-02-03 21:17:42 -0000 (Mon, 03 Feb 2025) EllapsedTime: 15.2 seconds RetCode: 0 Status: OK