Package: bioassayR Version: 1.44.0 Command: /home/biocbuild/R/R/bin/R CMD build --keep-empty-dirs --no-resave-data bioassayR StartedAt: 2025-01-27 22:38:56 -0000 (Mon, 27 Jan 2025) EndedAt: 2025-01-27 22:39:47 -0000 (Mon, 27 Jan 2025) EllapsedTime: 51.0 seconds RetCode: 0 Status: OK PackageFile: bioassayR_1.44.0.tar.gz PackageFileSize: 1.426 MiB