Package: bioassayR Version: 1.44.0 Command: rm -rf bioassayR.buildbin-libdir && mkdir bioassayR.buildbin-libdir && F:\biocbuild\bbs-3.20-bioc\R\bin\R.exe CMD INSTALL --build --library=bioassayR.buildbin-libdir bioassayR_1.44.0.tar.gz StartedAt: 2025-04-01 07:44:33 -0400 (Tue, 01 Apr 2025) EndedAt: 2025-04-01 07:46:56 -0400 (Tue, 01 Apr 2025) EllapsedTime: 142.7 seconds RetCode: 0 Status: OK PackageFile: bioassayR_1.44.0.zip PackageFileSize: 991.9 KiB