Package: bioCancer Version: 1.34.0 Command: /home/biocbuild/R/R/bin/R CMD INSTALL bioCancer StartedAt: 2025-01-27 21:59:05 -0000 (Mon, 27 Jan 2025) EndedAt: 2025-01-27 22:00:12 -0000 (Mon, 27 Jan 2025) EllapsedTime: 66.7 seconds RetCode: 0 Status: OK