Package: bgx Version: 1.72.0 Command: chmod a+r bgx -R && F:\biocbuild\bbs-3.20-bioc\R\bin\R.exe CMD build --keep-empty-dirs --no-resave-data bgx StartedAt: 2025-01-27 17:31:55 -0500 (Mon, 27 Jan 2025) EndedAt: 2025-01-27 17:35:45 -0500 (Mon, 27 Jan 2025) EllapsedTime: 230.1 seconds RetCode: 0 Status: OK PackageFile: bgx_1.72.0.tar.gz PackageFileSize: 4.83 MiB