Package: bettr Version: 1.2.0 Command: F:\biocbuild\bbs-3.20-bioc\R\bin\R.exe CMD check --no-multiarch --install=check:bettr.install-out.txt --library=F:\biocbuild\bbs-3.20-bioc\R\library --no-vignettes --timings bettr_1.2.0.tar.gz StartedAt: 2025-03-31 23:12:01 -0400 (Mon, 31 Mar 2025) EndedAt: 2025-03-31 23:16:16 -0400 (Mon, 31 Mar 2025) EllapsedTime: 254.8 seconds RetCode: 0 Status: OK CheckDir: bettr.Rcheck Warnings: 0