Package: bettr Version: 1.2.0 Command: chmod a+r bettr -R && F:\biocbuild\bbs-3.20-bioc\R\bin\R.exe CMD build --keep-empty-dirs --no-resave-data bettr StartedAt: 2025-03-31 17:31:10 -0400 (Mon, 31 Mar 2025) EndedAt: 2025-03-31 17:32:11 -0400 (Mon, 31 Mar 2025) EllapsedTime: 60.8 seconds RetCode: 0 Status: OK PackageFile: bettr_1.2.0.tar.gz PackageFileSize: 2.363 MiB