Package: betaHMM Version: 1.2.1 Command: F:\biocbuild\bbs-3.20-bioc\R\bin\R.exe CMD INSTALL betaHMM StartedAt: 2025-01-27 15:59:21 -0500 (Mon, 27 Jan 2025) EndedAt: 2025-01-27 16:00:09 -0500 (Mon, 27 Jan 2025) EllapsedTime: 47.5 seconds RetCode: 0 Status: OK