Package: betaHMM Version: 1.2.1 Command: chmod a+r betaHMM -R && F:\biocbuild\bbs-3.20-bioc\R\bin\R.exe CMD build --keep-empty-dirs --no-resave-data betaHMM StartedAt: 2025-01-27 17:30:37 -0500 (Mon, 27 Jan 2025) EndedAt: 2025-01-27 17:37:55 -0500 (Mon, 27 Jan 2025) EllapsedTime: 438.0 seconds RetCode: 0 Status: OK PackageFile: betaHMM_1.2.1.tar.gz PackageFileSize: 3.448 MiB