Package: betaHMM Version: 1.2.1 Command: rm -rf betaHMM.buildbin-libdir && mkdir betaHMM.buildbin-libdir && F:\biocbuild\bbs-3.20-bioc\R\bin\R.exe CMD INSTALL --build --library=betaHMM.buildbin-libdir betaHMM_1.2.1.tar.gz StartedAt: 2025-01-28 07:42:16 -0500 (Tue, 28 Jan 2025) EndedAt: 2025-01-28 07:42:57 -0500 (Tue, 28 Jan 2025) EllapsedTime: 41.8 seconds RetCode: 0 Status: OK PackageFile: betaHMM_1.2.1.zip PackageFileSize: 3.537 MiB