Package: betaHMM Version: 1.2.1 Command: /home/biocbuild/bbs-3.20-bioc/R/bin/R CMD check --install=check:betaHMM.install-out.txt --library=/home/biocbuild/bbs-3.20-bioc/R/site-library --timings betaHMM_1.2.1.tar.gz StartedAt: 2025-02-03 20:19:27 -0500 (Mon, 03 Feb 2025) EndedAt: 2025-02-03 20:31:44 -0500 (Mon, 03 Feb 2025) EllapsedTime: 737.0 seconds RetCode: 0 Status: OK CheckDir: betaHMM.Rcheck Warnings: 0