Package: betaHMM Version: 1.2.1 Command: rm -rf betaHMM.buildbin-libdir && mkdir betaHMM.buildbin-libdir && /Users/biocbuild/BBS/utils/build-universal.sh betaHMM_1.2.1.tar.gz /Library/Frameworks/R.framework/Resources/bin/R betaHMM.buildbin-libdir StartedAt: 2025-01-28 12:41:10 -0500 (Tue, 28 Jan 2025) EndedAt: 2025-01-28 12:42:09 -0500 (Tue, 28 Jan 2025) EllapsedTime: 58.8 seconds RetCode: 0 Status: OK PackageFile: betaHMM_1.2.1.tgz PackageFileSize: 3.92 MiB