Package: betaHMM Version: 1.2.0 Command: rm -rf betaHMM.buildbin-libdir && mkdir betaHMM.buildbin-libdir && /Users/biocbuild/BBS/utils/build-universal.sh betaHMM_1.2.0.tar.gz /Library/Frameworks/R.framework/Resources/bin/R betaHMM.buildbin-libdir StartedAt: 2024-11-20 04:15:30 -0500 (Wed, 20 Nov 2024) EndedAt: 2024-11-20 04:16:08 -0500 (Wed, 20 Nov 2024) EllapsedTime: 38.9 seconds RetCode: 0 Status: OK PackageFile: betaHMM_1.2.0.tgz PackageFileSize: 3.922 MiB