Package: benchdamic Version: 1.12.2 Command: /home/biocbuild/R/R/bin/R CMD INSTALL benchdamic StartedAt: 2025-01-30 20:58:29 -0000 (Thu, 30 Jan 2025) EndedAt: 2025-01-30 20:59:52 -0000 (Thu, 30 Jan 2025) EllapsedTime: 82.7 seconds RetCode: 0 Status: OK