Package: benchdamic Version: 1.12.2 Command: F:\biocbuild\bbs-3.20-bioc\R\bin\R.exe CMD INSTALL benchdamic StartedAt: 2025-03-31 16:50:47 -0400 (Mon, 31 Mar 2025) EndedAt: 2025-03-31 16:52:35 -0400 (Mon, 31 Mar 2025) EllapsedTime: 108.0 seconds RetCode: 0 Status: OK