Package: benchdamic Version: 1.12.2 Command: /Library/Frameworks/R.framework/Resources/bin/R CMD INSTALL benchdamic StartedAt: 2025-03-31 17:40:26 -0400 (Mon, 31 Mar 2025) EndedAt: 2025-03-31 17:41:43 -0400 (Mon, 31 Mar 2025) EllapsedTime: 77.1 seconds RetCode: 0 Status: OK