Package: beer Version: 1.10.0 Command: /Library/Frameworks/R.framework/Resources/bin/R CMD build --keep-empty-dirs --no-resave-data beer StartedAt: 2025-03-31 17:05:25 -0400 (Mon, 31 Mar 2025) EndedAt: 2025-03-31 17:11:40 -0400 (Mon, 31 Mar 2025) EllapsedTime: 374.4 seconds RetCode: 0 Status: OK PackageFile: beer_1.10.0.tar.gz PackageFileSize: 611.2 KiB