Package: beer Version: 1.10.0 Command: /Library/Frameworks/R.framework/Resources/bin/R CMD check --install=check:beer.install-out.txt --library=/Library/Frameworks/R.framework/Resources/library --no-vignettes --timings beer_1.10.0.tar.gz StartedAt: 2025-01-28 11:54:18 -0500 (Tue, 28 Jan 2025) EndedAt: 2025-01-28 12:06:05 -0500 (Tue, 28 Jan 2025) EllapsedTime: 706.4 seconds RetCode: 0 Status: OK CheckDir: beer.Rcheck Warnings: 0