Package: beer Version: 1.10.0 Command: rm -rf beer.buildbin-libdir && mkdir beer.buildbin-libdir && /Users/biocbuild/BBS/utils/build-universal.sh beer_1.10.0.tar.gz /Library/Frameworks/R.framework/Resources/bin/R beer.buildbin-libdir StartedAt: 2025-01-29 13:45:31 -0500 (Wed, 29 Jan 2025) EndedAt: 2025-01-29 13:46:07 -0500 (Wed, 29 Jan 2025) EllapsedTime: 35.9 seconds RetCode: 0 Status: OK PackageFile: beer_1.10.0.tgz PackageFileSize: 702.4 KiB