Package: beadarray Version: 2.56.0 Command: /home/biocbuild/bbs-3.20-bioc/R/bin/R CMD INSTALL beadarray StartedAt: 2025-01-27 16:13:55 -0500 (Mon, 27 Jan 2025) EndedAt: 2025-01-27 16:14:21 -0500 (Mon, 27 Jan 2025) EllapsedTime: 26.0 seconds RetCode: 0 Status: OK