Package: beadarray Version: 2.56.0 Command: /Library/Frameworks/R.framework/Resources/bin/R CMD INSTALL beadarray StartedAt: 2025-02-10 15:47:36 -0500 (Mon, 10 Feb 2025) EndedAt: 2025-02-10 15:48:08 -0500 (Mon, 10 Feb 2025) EllapsedTime: 31.5 seconds RetCode: 0 Status: OK