Package: beachmat Version: 2.22.0 Command: /home/biocbuild/R/R/bin/R CMD check --install=check:beachmat.install-out.txt --library=/home/biocbuild/R/R/site-library --no-vignettes --timings beachmat_2.22.0.tar.gz StartedAt: 2025-02-11 03:56:51 -0000 (Tue, 11 Feb 2025) EndedAt: 2025-02-11 04:03:24 -0000 (Tue, 11 Feb 2025) EllapsedTime: 393.4 seconds RetCode: 0 Status: OK CheckDir: beachmat.Rcheck Warnings: 0