Package: beachmat Version: 2.22.0 Command: /home/biocbuild/R/R/bin/R CMD build --keep-empty-dirs --no-resave-data beachmat StartedAt: 2025-02-10 21:34:06 -0000 (Mon, 10 Feb 2025) EndedAt: 2025-02-10 21:40:35 -0000 (Mon, 10 Feb 2025) EllapsedTime: 389.1 seconds RetCode: 0 Status: OK PackageFile: beachmat_2.22.0.tar.gz PackageFileSize: 434.6 KiB