Package: bcSeq Version: 1.28.0 Command: /home/biocbuild/R/R/bin/R CMD build --keep-empty-dirs --no-resave-data bcSeq StartedAt: 2025-01-30 21:45:57 -0000 (Thu, 30 Jan 2025) EndedAt: 2025-01-30 21:46:58 -0000 (Thu, 30 Jan 2025) EllapsedTime: 61.0 seconds RetCode: 0 Status: OK PackageFile: bcSeq_1.28.0.tar.gz PackageFileSize: 227.8 KiB