Package: bcSeq Version: 1.28.0 Command: chmod a+r bcSeq -R && F:\biocbuild\bbs-3.20-bioc\R\bin\R.exe CMD build --keep-empty-dirs --no-resave-data bcSeq StartedAt: 2025-01-27 17:29:01 -0500 (Mon, 27 Jan 2025) EndedAt: 2025-01-27 17:30:18 -0500 (Mon, 27 Jan 2025) EllapsedTime: 76.9 seconds RetCode: 0 Status: OK PackageFile: bcSeq_1.28.0.tar.gz PackageFileSize: 237.8 KiB