Package: baySeq Version: 2.40.0 Command: /home/biocbuild/R/R/bin/R CMD INSTALL baySeq StartedAt: 2025-02-10 20:17:36 -0000 (Mon, 10 Feb 2025) EndedAt: 2025-02-10 20:17:58 -0000 (Mon, 10 Feb 2025) EllapsedTime: 21.5 seconds RetCode: 0 Status: OK