Package: baySeq Version: 2.40.0 Command: rm -rf baySeq.buildbin-libdir && mkdir baySeq.buildbin-libdir && F:\biocbuild\bbs-3.20-bioc\R\bin\R.exe CMD INSTALL --build --library=baySeq.buildbin-libdir baySeq_2.40.0.tar.gz StartedAt: 2025-02-04 08:01:16 -0500 (Tue, 04 Feb 2025) EndedAt: 2025-02-04 08:01:50 -0500 (Tue, 04 Feb 2025) EllapsedTime: 34.0 seconds RetCode: 0 Status: OK PackageFile: baySeq_2.40.0.zip PackageFileSize: 1.611 MiB