Package: baySeq Version: 2.40.0 Command: /Library/Frameworks/R.framework/Resources/bin/R CMD INSTALL baySeq StartedAt: 2025-02-03 15:22:30 -0500 (Mon, 03 Feb 2025) EndedAt: 2025-02-03 15:23:10 -0500 (Mon, 03 Feb 2025) EllapsedTime: 40.3 seconds RetCode: 0 Status: OK