Package: baySeq Version: 2.40.0 Command: rm -rf baySeq.buildbin-libdir && mkdir baySeq.buildbin-libdir && /Users/biocbuild/BBS/utils/build-universal.sh baySeq_2.40.0.tar.gz /Library/Frameworks/R.framework/Resources/bin/R baySeq.buildbin-libdir StartedAt: 2024-11-20 04:15:13 -0500 (Wed, 20 Nov 2024) EndedAt: 2024-11-20 04:15:41 -0500 (Wed, 20 Nov 2024) EllapsedTime: 28.3 seconds RetCode: 0 Status: OK PackageFile: baySeq_2.40.0.tgz PackageFileSize: 1.604 MiB