Package: baySeq Version: 2.40.0 Command: /Library/Frameworks/R.framework/Resources/bin/R CMD build --keep-empty-dirs --no-resave-data baySeq StartedAt: 2025-02-03 19:12:10 -0500 (Mon, 03 Feb 2025) EndedAt: 2025-02-03 19:17:53 -0500 (Mon, 03 Feb 2025) EllapsedTime: 342.8 seconds RetCode: 0 Status: OK PackageFile: baySeq_2.40.0.tar.gz PackageFileSize: 1.124 MiB