Package: bayNorm Version: 1.24.0 Command: F:\biocbuild\bbs-3.20-bioc\R\bin\R.exe CMD check --no-multiarch --install=check:bayNorm.install-out.txt --library=F:\biocbuild\bbs-3.20-bioc\R\library --no-vignettes --timings bayNorm_1.24.0.tar.gz StartedAt: 2025-01-30 23:36:00 -0500 (Thu, 30 Jan 2025) EndedAt: 2025-01-30 23:39:41 -0500 (Thu, 30 Jan 2025) EllapsedTime: 221.0 seconds RetCode: 0 Status: OK CheckDir: bayNorm.Rcheck Warnings: 0