Package: bayNorm Version: 1.24.0 Command: chmod a+r bayNorm -R && F:\biocbuild\bbs-3.20-bioc\R\bin\R.exe CMD build --keep-empty-dirs --no-resave-data bayNorm StartedAt: 2025-03-31 17:28:48 -0400 (Mon, 31 Mar 2025) EndedAt: 2025-03-31 17:30:15 -0400 (Mon, 31 Mar 2025) EllapsedTime: 86.2 seconds RetCode: 0 Status: OK PackageFile: bayNorm_1.24.0.tar.gz PackageFileSize: 1.526 MiB