Package: bayNorm Version: 1.24.0 Command: /Library/Frameworks/R.framework/Resources/bin/R CMD INSTALL bayNorm StartedAt: 2025-03-31 16:10:07 -0400 (Mon, 31 Mar 2025) EndedAt: 2025-03-31 16:11:35 -0400 (Mon, 31 Mar 2025) EllapsedTime: 87.6 seconds RetCode: 0 Status: OK