Package: bayNorm Version: 1.24.0 Command: /Library/Frameworks/R.framework/Resources/bin/R CMD INSTALL bayNorm StartedAt: 2025-03-31 17:15:31 -0400 (Mon, 31 Mar 2025) EndedAt: 2025-03-31 17:16:15 -0400 (Mon, 31 Mar 2025) EllapsedTime: 44.5 seconds RetCode: 0 Status: OK