Package: batchelor Version: 1.22.0 Command: F:\biocbuild\bbs-3.20-bioc\R\bin\R.exe CMD check --no-multiarch --install=check:batchelor.install-out.txt --library=F:\biocbuild\bbs-3.20-bioc\R\library --no-vignettes --timings batchelor_1.22.0.tar.gz StartedAt: 2025-01-27 23:08:23 -0500 (Mon, 27 Jan 2025) EndedAt: 2025-01-27 23:16:12 -0500 (Mon, 27 Jan 2025) EllapsedTime: 469.6 seconds RetCode: 0 Status: OK CheckDir: batchelor.Rcheck Warnings: 0