Package: batchelor Version: 1.22.0 Command: chmod a+r batchelor -R && F:\biocbuild\bbs-3.20-bioc\R\bin\R.exe CMD build --keep-empty-dirs --no-resave-data batchelor StartedAt: 2025-01-27 17:28:07 -0500 (Mon, 27 Jan 2025) EndedAt: 2025-01-27 17:32:42 -0500 (Mon, 27 Jan 2025) EllapsedTime: 275.1 seconds RetCode: 0 Status: OK PackageFile: batchelor_1.22.0.tar.gz PackageFileSize: 971.6 KiB