Package: batchelor Version: 1.22.0 Command: /Library/Frameworks/R.framework/Resources/bin/R CMD check --install=check:batchelor.install-out.txt --library=/Library/Frameworks/R.framework/Resources/library --no-vignettes --timings batchelor_1.22.0.tar.gz StartedAt: 2025-02-04 00:01:04 -0500 (Tue, 04 Feb 2025) EndedAt: 2025-02-04 00:15:38 -0500 (Tue, 04 Feb 2025) EllapsedTime: 874.7 seconds RetCode: 0 Status: OK CheckDir: batchelor.Rcheck Warnings: 0