Package: batchelor Version: 1.22.0 Command: /Library/Frameworks/R.framework/Resources/bin/R CMD build --keep-empty-dirs --no-resave-data batchelor StartedAt: 2025-01-27 19:15:20 -0500 (Mon, 27 Jan 2025) EndedAt: 2025-01-27 19:18:35 -0500 (Mon, 27 Jan 2025) EllapsedTime: 194.2 seconds RetCode: 0 Status: OK PackageFile: batchelor_1.22.0.tar.gz PackageFileSize: 2.125 MiB