Package: basilisk Version: 1.18.0 Command: F:\biocbuild\bbs-3.20-bioc\R\bin\R.exe CMD check --no-multiarch --install=check:basilisk.install-out.txt --library=F:\biocbuild\bbs-3.20-bioc\R\library --no-vignettes --timings basilisk_1.18.0.tar.gz StartedAt: 2025-02-10 23:16:59 -0500 (Mon, 10 Feb 2025) EndedAt: 2025-02-10 23:18:06 -0500 (Mon, 10 Feb 2025) EllapsedTime: 66.8 seconds RetCode: 0 Status: OK CheckDir: basilisk.Rcheck Warnings: 0