Package: basilisk Version: 1.18.0 Command: /home/biocbuild/bbs-3.20-bioc/R/bin/R CMD INSTALL basilisk StartedAt: 2025-02-10 15:16:13 -0500 (Mon, 10 Feb 2025) EndedAt: 2025-02-10 15:16:29 -0500 (Mon, 10 Feb 2025) EllapsedTime: 15.7 seconds RetCode: 0 Status: OK