Package: basilisk Version: 1.18.0 Command: /Library/Frameworks/R.framework/Resources/bin/R CMD build --keep-empty-dirs --no-resave-data basilisk StartedAt: 2025-02-10 17:05:26 -0500 (Mon, 10 Feb 2025) EndedAt: 2025-02-10 17:19:27 -0500 (Mon, 10 Feb 2025) EllapsedTime: 841.2 seconds RetCode: 0 Status: OK PackageFile: basilisk_1.18.0.tar.gz PackageFileSize: 263.4 KiB