Package: basilisk Version: 1.18.0 Command: /Library/Frameworks/R.framework/Resources/bin/R CMD INSTALL basilisk StartedAt: 2025-02-13 15:17:21 -0500 (Thu, 13 Feb 2025) EndedAt: 2025-02-13 15:17:28 -0500 (Thu, 13 Feb 2025) EllapsedTime: 6.9 seconds RetCode: 0 Status: OK