Package: basilisk Version: 1.18.0 Command: /Library/Frameworks/R.framework/Resources/bin/R CMD check --install=check:basilisk.install-out.txt --library=/Library/Frameworks/R.framework/Resources/library --no-vignettes --timings basilisk_1.18.0.tar.gz StartedAt: 2025-02-14 12:02:01 -0500 (Fri, 14 Feb 2025) EndedAt: 2025-02-14 12:27:11 -0500 (Fri, 14 Feb 2025) EllapsedTime: 1510.1 seconds RetCode: 0 Status: OK CheckDir: basilisk.Rcheck Warnings: 0