Package: basilisk.utils Version: 1.18.0 Command: /home/biocbuild/bbs-3.20-bioc/R/bin/R CMD INSTALL basilisk.utils StartedAt: 2025-03-31 15:12:07 -0400 (Mon, 31 Mar 2025) EndedAt: 2025-03-31 15:12:12 -0400 (Mon, 31 Mar 2025) EllapsedTime: 5.6 seconds RetCode: 0 Status: OK